Package: clevRvis Version: 1.11.0 Command: /Library/Frameworks/R.framework/Resources/bin/R CMD INSTALL clevRvis StartedAt: 2025-11-14 15:06:27 -0500 (Fri, 14 Nov 2025) EndedAt: 2025-11-14 15:06:32 -0500 (Fri, 14 Nov 2025) EllapsedTime: 4.6 seconds RetCode: 0 Status: OK