Package: clevRvis Version: 1.11.0 Command: rm -rf clevRvis.buildbin-libdir && mkdir clevRvis.buildbin-libdir && /Users/biocbuild/BBS/utils/build-universal.sh clevRvis_1.11.0.tar.gz /Library/Frameworks/R.framework/Resources/bin/R clevRvis.buildbin-libdir StartedAt: 2025-11-14 23:26:57 -0500 (Fri, 14 Nov 2025) EndedAt: 2025-11-14 23:27:03 -0500 (Fri, 14 Nov 2025) EllapsedTime: 6.1 seconds RetCode: 0 Status: OK PackageFile: clevRvis_1.11.0.tgz PackageFileSize: 2.785 MiB