Package: cleaver Version: 1.49.0 Command: /home/biocbuild/bbs-3.23-bioc/R/bin/R CMD INSTALL cleaver StartedAt: 2025-11-14 15:24:45 -0500 (Fri, 14 Nov 2025) EndedAt: 2025-11-14 15:24:54 -0500 (Fri, 14 Nov 2025) EllapsedTime: 9.3 seconds RetCode: 0 Status: OK