Package: cleaver Version: 1.49.0 Command: /home/biocbuild/bbs-3.23-bioc/R/bin/R CMD build --keep-empty-dirs --no-resave-data cleaver StartedAt: 2025-11-14 16:50:00 -0500 (Fri, 14 Nov 2025) EndedAt: 2025-11-14 16:50:18 -0500 (Fri, 14 Nov 2025) EllapsedTime: 18.0 seconds RetCode: 0 Status: OK PackageFile: cleaver_1.49.0.tar.gz PackageFileSize: 345 KiB