Package: cleaver Version: 1.49.0 Command: /Library/Frameworks/R.framework/Resources/bin/R CMD build --keep-empty-dirs --no-resave-data cleaver StartedAt: 2025-11-12 15:59:44 -0500 (Wed, 12 Nov 2025) EndedAt: 2025-11-12 15:59:53 -0500 (Wed, 12 Nov 2025) EllapsedTime: 9.1 seconds RetCode: 0 Status: OK PackageFile: cleaver_1.49.0.tar.gz PackageFileSize: 344.7 KiB