Package: cleaver Version: 1.49.0 Command: rm -rf cleaver.buildbin-libdir && mkdir cleaver.buildbin-libdir && /Users/biocbuild/BBS/utils/build-universal.sh cleaver_1.49.0.tar.gz /Library/Frameworks/R.framework/Resources/bin/R cleaver.buildbin-libdir StartedAt: 2025-11-12 20:54:07 -0500 (Wed, 12 Nov 2025) EndedAt: 2025-11-12 20:54:12 -0500 (Wed, 12 Nov 2025) EllapsedTime: 5.1 seconds RetCode: 0 Status: OK PackageFile: cleaver_1.49.0.tgz PackageFileSize: 381.5 KiB