Package: cleaver Version: 1.49.0 Maintainer: Sebastian Gibb MaintainerEmail: mail at sebastiangibb.de git_url: https://git.bioconductor.org/packages/cleaver git_branch: devel git_last_commit: d68c701 git_last_commit_date: 2025-10-29 10:15:06 -0500 (Wed, 29 Oct 2025)