Package: cleanUpdTSeq Version: 1.49.0 Command: /home/biocbuild/bbs-3.23-bioc/R/bin/R CMD INSTALL cleanUpdTSeq StartedAt: 2025-11-13 15:34:19 -0500 (Thu, 13 Nov 2025) EndedAt: 2025-11-13 15:35:19 -0500 (Thu, 13 Nov 2025) EllapsedTime: 60.1 seconds RetCode: 0 Status: OK