Package: cleanUpdTSeq Version: 1.49.0 Command: /home/biocbuild/bbs-3.23-bioc/R/bin/R CMD check --install=check:cleanUpdTSeq.install-out.txt --library=/home/biocbuild/bbs-3.23-bioc/R/site-library --timings cleanUpdTSeq_1.49.0.tar.gz StartedAt: 2025-11-14 22:03:40 -0500 (Fri, 14 Nov 2025) EndedAt: 2025-11-14 22:08:33 -0500 (Fri, 14 Nov 2025) EllapsedTime: 292.4 seconds RetCode: 0 Status: OK CheckDir: cleanUpdTSeq.Rcheck Warnings: 0