Package: cleanUpdTSeq Version: 1.49.0 Command: /home/biocbuild/bbs-3.23-bioc/R/bin/R CMD build --keep-empty-dirs --no-resave-data cleanUpdTSeq StartedAt: 2025-11-13 16:49:10 -0500 (Thu, 13 Nov 2025) EndedAt: 2025-11-13 16:50:29 -0500 (Thu, 13 Nov 2025) EllapsedTime: 78.1 seconds RetCode: 0 Status: OK PackageFile: cleanUpdTSeq_1.49.0.tar.gz PackageFileSize: 4.008 MiB