Package: cleanUpdTSeq Version: 1.49.0 Command: /Library/Frameworks/R.framework/Resources/bin/R CMD INSTALL cleanUpdTSeq StartedAt: 2025-11-14 15:19:28 -0500 (Fri, 14 Nov 2025) EndedAt: 2025-11-14 15:19:53 -0500 (Fri, 14 Nov 2025) EllapsedTime: 24.3 seconds RetCode: 0 Status: OK