Package: circRNAprofiler Version: 1.25.0 Command: /home/biocbuild/bbs-3.23-bioc/R/bin/R CMD INSTALL circRNAprofiler StartedAt: 2025-11-14 15:42:09 -0500 (Fri, 14 Nov 2025) EndedAt: 2025-11-14 15:43:00 -0500 (Fri, 14 Nov 2025) EllapsedTime: 51.5 seconds RetCode: 0 Status: OK