Package: circRNAprofiler Version: 1.25.0 Command: /Library/Frameworks/R.framework/Resources/bin/R CMD INSTALL circRNAprofiler StartedAt: 2025-11-13 15:22:18 -0500 (Thu, 13 Nov 2025) EndedAt: 2025-11-13 15:22:40 -0500 (Thu, 13 Nov 2025) EllapsedTime: 22.2 seconds RetCode: 0 Status: OK