Package: circRNAprofiler Version: 1.25.0 Command: /Library/Frameworks/R.framework/Resources/bin/R CMD build --keep-empty-dirs --no-resave-data circRNAprofiler StartedAt: 2025-11-13 15:57:34 -0500 (Thu, 13 Nov 2025) EndedAt: 2025-11-13 15:58:07 -0500 (Thu, 13 Nov 2025) EllapsedTime: 33.4 seconds RetCode: 0 Status: OK PackageFile: circRNAprofiler_1.25.0.tar.gz PackageFileSize: 3.717 MiB