Package: circRNAprofiler Version: 1.25.0 Command: rm -rf circRNAprofiler.buildbin-libdir && mkdir circRNAprofiler.buildbin-libdir && /Users/biocbuild/BBS/utils/build-universal.sh circRNAprofiler_1.25.0.tar.gz /Library/Frameworks/R.framework/Resources/bin/R circRNAprofiler.buildbin-libdir StartedAt: 2025-11-13 23:31:48 -0500 (Thu, 13 Nov 2025) EndedAt: 2025-11-13 23:32:13 -0500 (Thu, 13 Nov 2025) EllapsedTime: 25.5 seconds RetCode: 0 Status: OK PackageFile: circRNAprofiler_1.25.0.tgz PackageFileSize: 3.558 MiB