Package: circRNAprofiler Version: 1.25.0 Maintainer: Simona Aufiero MaintainerEmail: simo.aufiero at gmail.com git_url: https://git.bioconductor.org/packages/circRNAprofiler git_branch: devel git_last_commit: a9049f9 git_last_commit_date: 2025-10-29 10:53:06 -0500 (Wed, 29 Oct 2025)