Package: chromVAR Version: 1.33.0 Command: /Library/Frameworks/R.framework/Resources/bin/R CMD INSTALL chromVAR StartedAt: 2025-11-21 15:26:52 -0500 (Fri, 21 Nov 2025) EndedAt: 2025-11-21 15:27:02 -0500 (Fri, 21 Nov 2025) EllapsedTime: 10.4 seconds RetCode: 1 Status: ERROR