Package: chromVAR Version: 1.33.0 Command: /Library/Frameworks/R.framework/Resources/bin/R CMD build --keep-empty-dirs --no-resave-data chromVAR StartedAt: 2025-11-21 15:54:13 -0500 (Fri, 21 Nov 2025) EndedAt: 2025-11-21 15:54:23 -0500 (Fri, 21 Nov 2025) EllapsedTime: 10.1 seconds RetCode: 1 Status: ERROR PackageFile: None PackageFileSize: NA