Package: chromPlot Version: 1.39.0 Command: /home/biocbuild/bbs-3.23-bioc/R/bin/R CMD build --keep-empty-dirs --no-resave-data chromPlot StartedAt: 2025-11-13 16:48:01 -0500 (Thu, 13 Nov 2025) EndedAt: 2025-11-13 16:48:46 -0500 (Thu, 13 Nov 2025) EllapsedTime: 45.0 seconds RetCode: 0 Status: OK PackageFile: chromPlot_1.39.0.tar.gz PackageFileSize: 1.522 MiB