Package: chromPlot Version: 1.39.0 Command: /Library/Frameworks/R.framework/Resources/bin/R CMD INSTALL chromPlot StartedAt: 2025-11-12 15:45:34 -0500 (Wed, 12 Nov 2025) EndedAt: 2025-11-12 15:45:41 -0500 (Wed, 12 Nov 2025) EllapsedTime: 6.3 seconds RetCode: 0 Status: OK