Package: chromPlot Version: 1.39.0 Maintainer: Karen Y. Orostica MaintainerEmail: korostica09 at gmail.com git_url: https://git.bioconductor.org/packages/chromPlot git_branch: devel git_last_commit: 022a816 git_last_commit_date: 2025-10-29 10:30:09 -0500 (Wed, 29 Oct 2025)