Package: chromDraw Version: 2.41.0 Command: /home/biocbuild/bbs-3.23-bioc/R/bin/R CMD INSTALL chromDraw StartedAt: 2025-11-14 15:23:45 -0500 (Fri, 14 Nov 2025) EndedAt: 2025-11-14 15:24:25 -0500 (Fri, 14 Nov 2025) EllapsedTime: 40.4 seconds RetCode: 0 Status: OK