Package: chromDraw Version: 2.41.0 Maintainer: Jan Janecka MaintainerEmail: jan.janecka at ceitec.muni.cz git_url: https://git.bioconductor.org/packages/chromDraw git_branch: devel git_last_commit: bf9f6d0 git_last_commit_date: 2025-10-29 10:23:24 -0500 (Wed, 29 Oct 2025)