Package: chopsticks Version: 1.77.0 Command: /Library/Frameworks/R.framework/Resources/bin/R CMD INSTALL chopsticks StartedAt: 2025-11-14 15:03:42 -0500 (Fri, 14 Nov 2025) EndedAt: 2025-11-14 15:03:47 -0500 (Fri, 14 Nov 2025) EllapsedTime: 5.7 seconds RetCode: 1 Status: ERROR