Package: chipseq Version: 1.61.0 Command: /home/biocbuild/bbs-3.23-bioc/R/bin/R CMD INSTALL chipseq StartedAt: 2025-11-11 16:00:03 -0500 (Tue, 11 Nov 2025) EndedAt: 2025-11-11 16:00:33 -0500 (Tue, 11 Nov 2025) EllapsedTime: 29.9 seconds RetCode: 0 Status: OK