Package: chipseq Version: 1.61.0 Command: /home/biocbuild/bbs-3.23-bioc/R/bin/R CMD build --keep-empty-dirs --no-resave-data chipseq StartedAt: 2025-11-11 16:51:12 -0500 (Tue, 11 Nov 2025) EndedAt: 2025-11-11 16:54:28 -0500 (Tue, 11 Nov 2025) EllapsedTime: 196.2 seconds RetCode: 0 Status: OK PackageFile: chipseq_1.61.0.tar.gz PackageFileSize: 2.456 MiB