Package: chipseq Version: 1.61.0 Command: /Library/Frameworks/R.framework/Resources/bin/R CMD build --keep-empty-dirs --no-resave-data chipseq StartedAt: 2025-11-13 15:56:45 -0500 (Thu, 13 Nov 2025) EndedAt: 2025-11-13 15:58:03 -0500 (Thu, 13 Nov 2025) EllapsedTime: 77.9 seconds RetCode: 0 Status: OK PackageFile: chipseq_1.61.0.tar.gz PackageFileSize: 2.434 MiB