Package: chipseq Version: 1.61.0 Command: rm -rf chipseq.buildbin-libdir && mkdir chipseq.buildbin-libdir && /Users/biocbuild/BBS/utils/build-universal.sh chipseq_1.61.0.tar.gz /Library/Frameworks/R.framework/Resources/bin/R chipseq.buildbin-libdir StartedAt: 2025-11-13 23:31:28 -0500 (Thu, 13 Nov 2025) EndedAt: 2025-11-13 23:31:45 -0500 (Thu, 13 Nov 2025) EllapsedTime: 16.3 seconds RetCode: 0 Status: OK PackageFile: chipseq_1.61.0.tgz PackageFileSize: 2.498 MiB