Package: chipenrich Version: 2.35.0 Command: /home/biocbuild/bbs-3.23-bioc/R/bin/R CMD INSTALL chipenrich StartedAt: 2025-11-16 15:32:58 -0500 (Sun, 16 Nov 2025) EndedAt: 2025-11-16 15:33:43 -0500 (Sun, 16 Nov 2025) EllapsedTime: 44.9 seconds RetCode: 0 Status: OK