Package: chipenrich Version: 2.35.0 Command: /home/biocbuild/bbs-3.23-bioc/R/bin/R CMD build --keep-empty-dirs --no-resave-data chipenrich StartedAt: 2025-11-16 16:47:57 -0500 (Sun, 16 Nov 2025) EndedAt: 2025-11-16 16:49:28 -0500 (Sun, 16 Nov 2025) EllapsedTime: 91.1 seconds RetCode: 0 Status: OK PackageFile: chipenrich_2.35.0.tar.gz PackageFileSize: 765.5 KiB