Package: chipenrich Version: 2.35.0 Command: /Library/Frameworks/R.framework/Resources/bin/R CMD INSTALL chipenrich StartedAt: 2025-11-14 15:17:05 -0500 (Fri, 14 Nov 2025) EndedAt: 2025-11-14 15:17:24 -0500 (Fri, 14 Nov 2025) EllapsedTime: 18.4 seconds RetCode: 0 Status: OK