Package: chipenrich Version: 2.35.0 Command: /Library/Frameworks/R.framework/Resources/bin/R CMD build --keep-empty-dirs --no-resave-data chipenrich StartedAt: 2025-11-14 15:53:17 -0500 (Fri, 14 Nov 2025) EndedAt: 2025-11-14 15:53:57 -0500 (Fri, 14 Nov 2025) EllapsedTime: 39.4 seconds RetCode: 0 Status: OK PackageFile: chipenrich_2.35.0.tar.gz PackageFileSize: 655.7 KiB