Package: chipenrich Version: 2.35.0 Command: rm -rf chipenrich.buildbin-libdir && mkdir chipenrich.buildbin-libdir && /Users/biocbuild/BBS/utils/build-universal.sh chipenrich_2.35.0.tar.gz /Library/Frameworks/R.framework/Resources/bin/R chipenrich.buildbin-libdir StartedAt: 2025-11-14 23:26:24 -0500 (Fri, 14 Nov 2025) EndedAt: 2025-11-14 23:26:46 -0500 (Fri, 14 Nov 2025) EllapsedTime: 22.4 seconds RetCode: 0 Status: OK PackageFile: chipenrich_2.35.0.tgz PackageFileSize: 890.4 KiB