Package: chimeraviz Version: 1.37.0 Command: /home/biocbuild/bbs-3.23-bioc/R/bin/R CMD INSTALL chimeraviz StartedAt: 2025-11-13 15:48:03 -0500 (Thu, 13 Nov 2025) EndedAt: 2025-11-13 15:49:01 -0500 (Thu, 13 Nov 2025) EllapsedTime: 57.3 seconds RetCode: 0 Status: OK