Package: chimeraviz Version: 1.37.0 Command: /Library/Frameworks/R.framework/Resources/bin/R CMD INSTALL chimeraviz StartedAt: 2025-11-13 15:26:18 -0500 (Thu, 13 Nov 2025) EndedAt: 2025-11-13 15:26:41 -0500 (Thu, 13 Nov 2025) EllapsedTime: 23.1 seconds RetCode: 0 Status: OK