Package: chimeraviz Version: 1.37.0 Command: rm -rf chimeraviz.buildbin-libdir && mkdir chimeraviz.buildbin-libdir && /Users/biocbuild/BBS/utils/build-universal.sh chimeraviz_1.37.0.tar.gz /Library/Frameworks/R.framework/Resources/bin/R chimeraviz.buildbin-libdir StartedAt: 2025-11-13 23:31:18 -0500 (Thu, 13 Nov 2025) EndedAt: 2025-11-13 23:31:47 -0500 (Thu, 13 Nov 2025) EllapsedTime: 28.5 seconds RetCode: 0 Status: OK PackageFile: chimeraviz_1.37.0.tgz PackageFileSize: 4.723 MiB