Package: chimeraviz Version: 1.37.0 Maintainer: Stian Lågstad MaintainerEmail: stianlagstad at gmail.com git_url: https://git.bioconductor.org/packages/chimeraviz git_branch: devel git_last_commit: 3490116 git_last_commit_date: 2025-10-29 10:35:50 -0500 (Wed, 29 Oct 2025)