Package: chevreulProcess Version: 1.3.0 Command: /Library/Frameworks/R.framework/Resources/bin/R CMD INSTALL chevreulProcess StartedAt: 2025-11-13 15:31:38 -0500 (Thu, 13 Nov 2025) EndedAt: 2025-11-13 15:32:02 -0500 (Thu, 13 Nov 2025) EllapsedTime: 23.7 seconds RetCode: 0 Status: OK