Package: chevreulProcess Version: 1.3.0 Command: /Library/Frameworks/R.framework/Resources/bin/R CMD build --keep-empty-dirs --no-resave-data chevreulProcess StartedAt: 2025-11-13 15:56:03 -0500 (Thu, 13 Nov 2025) EndedAt: 2025-11-13 15:56:35 -0500 (Thu, 13 Nov 2025) EllapsedTime: 32.4 seconds RetCode: 0 Status: OK PackageFile: chevreulProcess_1.3.0.tar.gz PackageFileSize: 4.756 MiB