Package: chevreulPlot Version: 1.3.0 Command: /Library/Frameworks/R.framework/Resources/bin/R CMD INSTALL chevreulPlot StartedAt: 2025-11-14 15:30:38 -0500 (Fri, 14 Nov 2025) EndedAt: 2025-11-14 15:31:00 -0500 (Fri, 14 Nov 2025) EllapsedTime: 22.0 seconds RetCode: 0 Status: OK