Package: chevreulPlot Version: 1.3.0 Command: /Library/Frameworks/R.framework/Resources/bin/R CMD build --keep-empty-dirs --no-resave-data chevreulPlot StartedAt: 2025-11-13 15:55:52 -0500 (Thu, 13 Nov 2025) EndedAt: 2025-11-13 15:56:29 -0500 (Thu, 13 Nov 2025) EllapsedTime: 36.4 seconds RetCode: 0 Status: OK PackageFile: chevreulPlot_1.3.0.tar.gz PackageFileSize: 12.9 MiB