Package: chevreulPlot Version: 1.3.0 Command: rm -rf chevreulPlot.buildbin-libdir && mkdir chevreulPlot.buildbin-libdir && /Users/biocbuild/BBS/utils/build-universal.sh chevreulPlot_1.3.0.tar.gz /Library/Frameworks/R.framework/Resources/bin/R chevreulPlot.buildbin-libdir StartedAt: 2025-11-14 23:26:15 -0500 (Fri, 14 Nov 2025) EndedAt: 2025-11-14 23:26:41 -0500 (Fri, 14 Nov 2025) EllapsedTime: 26.5 seconds RetCode: 0 Status: OK PackageFile: chevreulPlot_1.3.0.tgz PackageFileSize: 12.96 MiB