Package: cfTools Version: 1.11.0 Command: /Library/Frameworks/R.framework/Resources/bin/R CMD build --keep-empty-dirs --no-resave-data cfTools StartedAt: 2025-11-13 15:55:34 -0500 (Thu, 13 Nov 2025) EndedAt: 2025-11-13 15:56:03 -0500 (Thu, 13 Nov 2025) EllapsedTime: 28.3 seconds RetCode: 1 Status: ERROR PackageFile: None PackageFileSize: NA