Package: cfTools Version: 1.11.0 Maintainer: Ran Hu MaintainerEmail: huran at ucla.edu git_url: https://git.bioconductor.org/packages/cfTools git_branch: devel git_last_commit: 51e7344 git_last_commit_date: 2025-10-29 11:22:51 -0500 (Wed, 29 Oct 2025)