Package: cfDNAPro Version: 1.17.0 Command: /home/biocbuild/bbs-3.23-bioc/R/bin/R CMD INSTALL cfDNAPro StartedAt: 2025-11-11 15:38:49 -0500 (Tue, 11 Nov 2025) EndedAt: 2025-11-11 15:39:00 -0500 (Tue, 11 Nov 2025) EllapsedTime: 11.4 seconds RetCode: 1 Status: ERROR