Package: cfDNAPro Version: 1.17.0 Command: /home/biocbuild/bbs-3.23-bioc/R/bin/R CMD build --keep-empty-dirs --no-resave-data cfDNAPro StartedAt: 2025-11-13 16:44:13 -0500 (Thu, 13 Nov 2025) EndedAt: 2025-11-13 16:44:24 -0500 (Thu, 13 Nov 2025) EllapsedTime: 11.0 seconds RetCode: 1 Status: ERROR PackageFile: None PackageFileSize: NA