Package: censcyt Version: 1.19.0 Command: /home/biocbuild/bbs-3.23-bioc/R/bin/R CMD INSTALL censcyt StartedAt: 2025-11-14 15:24:04 -0500 (Fri, 14 Nov 2025) EndedAt: 2025-11-14 15:24:37 -0500 (Fri, 14 Nov 2025) EllapsedTime: 32.8 seconds RetCode: 0 Status: OK