Package: censcyt Version: 1.19.0 Command: /home/biocbuild/bbs-3.23-bioc/R/bin/R CMD build --keep-empty-dirs --no-resave-data censcyt StartedAt: 2025-11-14 16:43:06 -0500 (Fri, 14 Nov 2025) EndedAt: 2025-11-14 16:44:28 -0500 (Fri, 14 Nov 2025) EllapsedTime: 82.0 seconds RetCode: 0 Status: OK PackageFile: censcyt_1.19.0.tar.gz PackageFileSize: 521.8 KiB