Package: censcyt Version: 1.19.0 Command: rm -rf censcyt.buildbin-libdir && mkdir censcyt.buildbin-libdir && /Users/biocbuild/BBS/utils/build-universal.sh censcyt_1.19.0.tar.gz /Library/Frameworks/R.framework/Resources/bin/R censcyt.buildbin-libdir StartedAt: 2025-11-13 23:30:59 -0500 (Thu, 13 Nov 2025) EndedAt: 2025-11-13 23:31:15 -0500 (Thu, 13 Nov 2025) EllapsedTime: 16.4 seconds RetCode: 0 Status: OK PackageFile: censcyt_1.19.0.tgz PackageFileSize: 608.5 KiB