Package: censcyt Version: 1.19.0 Maintainer: Reto Gerber MaintainerEmail: gerberreto at pm.me git_url: https://git.bioconductor.org/packages/censcyt git_branch: devel git_last_commit: e0a4611 git_last_commit_date: 2025-10-29 11:05:07 -0500 (Wed, 29 Oct 2025)